BEGIN:VCALENDAR
VERSION:2.0
PRODID:-//Renfrewshire Local History Forum - ECPv6.1.3//NONSGML v1.0//EN
CALSCALE:GREGORIAN
METHOD:PUBLISH
X-ORIGINAL-URL:https://rlhf.info
X-WR-CALDESC:Events for Renfrewshire Local History Forum
REFRESH-INTERVAL;VALUE=DURATION:PT1H
X-Robots-Tag:noindex
X-PUBLISHED-TTL:PT1H
BEGIN:VTIMEZONE
TZID:Europe/London
BEGIN:DAYLIGHT
TZOFFSETFROM:+0000
TZOFFSETTO:+0100
TZNAME:BST
DTSTART:20140330T010000
END:DAYLIGHT
BEGIN:STANDARD
TZOFFSETFROM:+0100
TZOFFSETTO:+0000
TZNAME:GMT
DTSTART:20141026T010000
END:STANDARD
BEGIN:DAYLIGHT
TZOFFSETFROM:+0000
TZOFFSETTO:+0100
TZNAME:BST
DTSTART:20150329T010000
END:DAYLIGHT
BEGIN:STANDARD
TZOFFSETFROM:+0100
TZOFFSETTO:+0000
TZNAME:GMT
DTSTART:20151025T010000
END:STANDARD
BEGIN:DAYLIGHT
TZOFFSETFROM:+0000
TZOFFSETTO:+0100
TZNAME:BST
DTSTART:20160327T010000
END:DAYLIGHT
BEGIN:STANDARD
TZOFFSETFROM:+0100
TZOFFSETTO:+0000
TZNAME:GMT
DTSTART:20161030T010000
END:STANDARD
BEGIN:DAYLIGHT
TZOFFSETFROM:+0000
TZOFFSETTO:+0100
TZNAME:BST
DTSTART:20170326T010000
END:DAYLIGHT
BEGIN:STANDARD
TZOFFSETFROM:+0100
TZOFFSETTO:+0000
TZNAME:GMT
DTSTART:20171029T010000
END:STANDARD
BEGIN:DAYLIGHT
TZOFFSETFROM:+0000
TZOFFSETTO:+0100
TZNAME:BST
DTSTART:20180325T010000
END:DAYLIGHT
BEGIN:STANDARD
TZOFFSETFROM:+0100
TZOFFSETTO:+0000
TZNAME:GMT
DTSTART:20181028T010000
END:STANDARD
BEGIN:DAYLIGHT
TZOFFSETFROM:+0000
TZOFFSETTO:+0100
TZNAME:BST
DTSTART:20190331T010000
END:DAYLIGHT
BEGIN:STANDARD
TZOFFSETFROM:+0100
TZOFFSETTO:+0000
TZNAME:GMT
DTSTART:20191027T010000
END:STANDARD
END:VTIMEZONE
BEGIN:VEVENT
DTSTART;TZID=Europe/London:20191121T193000
DTEND;TZID=Europe/London:20191121T213000
DTSTAMP:20260423T113119
CREATED:20190819T202412Z
LAST-MODIFIED:20190819T202412Z
UID:2881-1574364600-1574371800@rlhf.info
SUMMARY:Lochwinnoch Historical Society
DESCRIPTION:The Story of Tobacco Worldwide and Locally \nJames Friend
URL:https://rlhf.info/event/lochwinnoch-historical-society-16/
LOCATION:Guild Room\, Lochwinnoch Parish Church\, Church St\, Lochwinnoch\, PA12 4HE\, United Kingdom
CATEGORIES:Lochwinnoch Historical Society
END:VEVENT
BEGIN:VEVENT
DTSTART;TZID=Europe/London:20191017T193000
DTEND;TZID=Europe/London:20191017T213000
DTSTAMP:20260423T113119
CREATED:20190819T202210Z
LAST-MODIFIED:20190819T202210Z
UID:2879-1571340600-1571347800@rlhf.info
SUMMARY:Lochwinnoch Historical Society
DESCRIPTION:The Kitchen Front – Health & Nutrition during WWII \nValerie Reilly
URL:https://rlhf.info/event/lochwinnoch-historical-society-15/
LOCATION:Guild Room\, Lochwinnoch Parish Church\, Church St\, Lochwinnoch\, PA12 4HE\, United Kingdom
CATEGORIES:Lochwinnoch Historical Society
END:VEVENT
BEGIN:VEVENT
DTSTART;TZID=Europe/London:20190919T193000
DTEND;TZID=Europe/London:20190919T213000
DTSTAMP:20260423T113119
CREATED:20190819T202045Z
LAST-MODIFIED:20190819T202045Z
UID:2877-1568921400-1568928600@rlhf.info
SUMMARY:Lochwinnoch Historical Society
DESCRIPTION:Southern Necropolis \nColin Mackie
URL:https://rlhf.info/event/lochwinnoch-historical-society-11/
LOCATION:Guild Room\, Lochwinnoch Parish Church\, Church St\, Lochwinnoch\, PA12 4HE\, United Kingdom
CATEGORIES:Lochwinnoch Historical Society
END:VEVENT
BEGIN:VEVENT
DTSTART;TZID=Europe/London:20190418T193000
DTEND;TZID=Europe/London:20190418T213000
DTSTAMP:20260423T113119
CREATED:20181001T192358Z
LAST-MODIFIED:20181001T192358Z
UID:2560-1555615800-1555623000@rlhf.info
SUMMARY:Lochwinnoch Historical Society
DESCRIPTION:The History of Muirshiel. \nAlan Brown
URL:https://rlhf.info/event/lochwinnoch-historical-society-13/
LOCATION:Guild Room\, Lochwinnoch Parish Church\, Church St\, Lochwinnoch\, PA12 4HE\, United Kingdom
CATEGORIES:Lochwinnoch Historical Society
END:VEVENT
BEGIN:VEVENT
DTSTART;TZID=Europe/London:20190221T193000
DTEND;TZID=Europe/London:20190221T213000
DTSTAMP:20260423T113119
CREATED:20181001T192237Z
LAST-MODIFIED:20181001T192237Z
UID:2558-1550777400-1550784600@rlhf.info
SUMMARY:Lochwinnoch Historical Society
DESCRIPTION:The Story of Tuberculosis over the Centuries both locally and worldwide. \nDr James Friend
URL:https://rlhf.info/event/lochwinnoch-historical-society-12/
LOCATION:Guild Room\, Lochwinnoch Parish Church\, Church St\, Lochwinnoch\, PA12 4HE\, United Kingdom
CATEGORIES:Lochwinnoch Historical Society
END:VEVENT
BEGIN:VEVENT
DTSTART;TZID=Europe/London:20190117T073000
DTEND;TZID=Europe/London:20190117T213000
DTSTAMP:20260423T113119
CREATED:20181005T193616Z
LAST-MODIFIED:20181005T193616Z
UID:2564-1547710200-1547760600@rlhf.info
SUMMARY:Lochwinnoch Historical Society
DESCRIPTION:The Southern Necropolis \nColin Mackie
URL:https://rlhf.info/event/lochwinnoch-historical-society-14/
LOCATION:Guild Room\, Lochwinnoch Parish Church\, Church St\, Lochwinnoch\, PA12 4HE\, United Kingdom
CATEGORIES:Lochwinnoch Historical Society
END:VEVENT
BEGIN:VEVENT
DTSTART;TZID=Europe/London:20181115T193000
DTEND;TZID=Europe/London:20181115T213000
DTSTAMP:20260423T113119
CREATED:20181001T191950Z
LAST-MODIFIED:20181001T191950Z
UID:2554-1542310200-1542317400@rlhf.info
SUMMARY:Lochwinnoch Historical Society
DESCRIPTION:The Coats & Clark Famlies. \nValerie Reilly
URL:https://rlhf.info/event/lochwinnoch-historical-society-10/
LOCATION:Guild Room\, Lochwinnoch Parish Church\, Church St\, Lochwinnoch\, PA12 4HE\, United Kingdom
CATEGORIES:Lochwinnoch Historical Society
END:VEVENT
BEGIN:VEVENT
DTSTART;TZID=Europe/London:20181018T193000
DTEND;TZID=Europe/London:20181018T213000
DTSTAMP:20260423T113119
CREATED:20181001T191819Z
LAST-MODIFIED:20181001T191819Z
UID:2552-1539891000-1539898200@rlhf.info
SUMMARY:Lochwinnoch Historical Society
DESCRIPTION:The 51st (Highland) Division in the Great War. \nColin Campbell
URL:https://rlhf.info/event/lochwinnoch-historical-society-9/
LOCATION:Guild Room\, Lochwinnoch Parish Church\, Church St\, Lochwinnoch\, PA12 4HE\, United Kingdom
CATEGORIES:Lochwinnoch Historical Society
END:VEVENT
BEGIN:VEVENT
DTSTART;TZID=Europe/London:20180920T193000
DTEND;TZID=Europe/London:20180920T213000
DTSTAMP:20260423T113119
CREATED:20181001T191627Z
LAST-MODIFIED:20181001T191627Z
UID:2550-1537471800-1537479000@rlhf.info
SUMMARY:Lochwinnoch Historical Society
DESCRIPTION:The Plague\, The Pluk & The Precipitation. \nProfessor Richard Oram
URL:https://rlhf.info/event/lochwinnoch-historical-society-8/
LOCATION:Guild Room\, Lochwinnoch Parish Church\, Church St\, Lochwinnoch\, PA12 4HE\, United Kingdom
CATEGORIES:Lochwinnoch Historical Society
END:VEVENT
BEGIN:VEVENT
DTSTART;TZID=Europe/London:20180419T193000
DTEND;TZID=Europe/London:20180419T213000
DTSTAMP:20260423T113119
CREATED:20170825T201354Z
LAST-MODIFIED:20170825T201354Z
UID:2281-1524166200-1524173400@rlhf.info
SUMMARY:Lochwinnoch Historical Society
DESCRIPTION:Speaker: Vanessa Collingridge    Topic tba
URL:https://rlhf.info/event/lochwinnoch-historical-society-7/
LOCATION:Guild Room\, Lochwinnoch Parish Church\, Church St\, Lochwinnoch\, PA12 4HE\, United Kingdom
CATEGORIES:Lochwinnoch Historical Society
END:VEVENT
BEGIN:VEVENT
DTSTART;TZID=Europe/London:20180215T193000
DTEND;TZID=Europe/London:20180215T213000
DTSTAMP:20260423T113119
CREATED:20170825T201223Z
LAST-MODIFIED:20170825T201223Z
UID:2279-1518723000-1518730200@rlhf.info
SUMMARY:Lochwinnoch Historical Society
DESCRIPTION:Women in Glasgow in WW1.  Speaker: Fiona Hayes
URL:https://rlhf.info/event/lochwinnoch-historical-society-6/
LOCATION:Guild Room\, Lochwinnoch Parish Church\, Church St\, Lochwinnoch\, PA12 4HE\, United Kingdom
CATEGORIES:Lochwinnoch Historical Society
END:VEVENT
BEGIN:VEVENT
DTSTART;TZID=Europe/London:20180118T193000
DTEND;TZID=Europe/London:20180118T213000
DTSTAMP:20260423T113119
CREATED:20170825T201014Z
LAST-MODIFIED:20170825T201014Z
UID:2277-1516303800-1516311000@rlhf.info
SUMMARY:Lochwinnoch Historical Society
DESCRIPTION:The Plagues\, the Pluk and the Precipitation: Disease and  Climate in Late Medieval Scotland.   Speaker: Richard Oram
URL:https://rlhf.info/event/lochwinnoch-historical-society-5/
LOCATION:Guild Room\, Lochwinnoch Parish Church\, Church St\, Lochwinnoch\, PA12 4HE\, United Kingdom
CATEGORIES:Lochwinnoch Historical Society
END:VEVENT
BEGIN:VEVENT
DTSTART;TZID=Europe/London:20171116T193000
DTEND;TZID=Europe/London:20171116T213000
DTSTAMP:20260423T113119
CREATED:20170825T200828Z
LAST-MODIFIED:20170825T200828Z
UID:2275-1510860600-1510867800@rlhf.info
SUMMARY:Lochwinnoch Historical Society
DESCRIPTION:A Family of Thread: the Rise of the Linen Industry in the county.   Speaker: Stephen Clancy
URL:https://rlhf.info/event/lochwinnoch-historical-society-4/
LOCATION:Guild Room\, Lochwinnoch Parish Church\, Church St\, Lochwinnoch\, PA12 4HE\, United Kingdom
CATEGORIES:Lochwinnoch Historical Society
END:VEVENT
BEGIN:VEVENT
DTSTART;TZID=Europe/London:20171019T193000
DTEND;TZID=Europe/London:20171019T213000
DTSTAMP:20260423T113119
CREATED:20170825T200704Z
LAST-MODIFIED:20170825T200704Z
UID:2273-1508441400-1508448600@rlhf.info
SUMMARY:Lochwinnoch Historical Society
DESCRIPTION:To Spend a Penny: the History of the Water Closet.  Speaker: Valerie Reilly
URL:https://rlhf.info/event/lochwinnoch-historical-society-3/
LOCATION:Guild Room\, Lochwinnoch Parish Church\, Church St\, Lochwinnoch\, PA12 4HE\, United Kingdom
CATEGORIES:Lochwinnoch Historical Society
END:VEVENT
BEGIN:VEVENT
DTSTART;TZID=Europe/London:20170921T193000
DTEND;TZID=Europe/London:20170921T213000
DTSTAMP:20260423T113119
CREATED:20170825T200449Z
LAST-MODIFIED:20170825T200449Z
UID:2271-1506022200-1506029400@rlhf.info
SUMMARY:Lochwinnoch Historical Society
DESCRIPTION:An Illicit Whisky Chaser: Rediscovering the Hidden History of Whisky Production in 18th & 19th Century Scotland.   Speaker: Claire Wilson
URL:https://rlhf.info/event/lochwinnoch-historical-society-2/
LOCATION:Guild Room\, Lochwinnoch Parish Church\, Church St\, Lochwinnoch\, PA12 4HE\, United Kingdom
CATEGORIES:Lochwinnoch Historical Society
END:VEVENT
BEGIN:VEVENT
DTSTART;TZID=Europe/London:20160510T193000
DTEND;TZID=Europe/London:20160510T213000
DTSTAMP:20260423T113119
CREATED:20151016T171434Z
LAST-MODIFIED:20151016T171434Z
UID:1453-1462908600-1462915800@rlhf.info
SUMMARY:Johnstone History Society
DESCRIPTION:The Original Olympics.     Valerie Reilly
URL:https://rlhf.info/event/johnstone-history-society-9/
LOCATION:Masonic Halls\, 11 Collier Street\, Johnstone\, PA5 8SL
CATEGORIES:Lochwinnoch Historical Society
END:VEVENT
BEGIN:VEVENT
DTSTART;TZID=Europe/London:20151119T193000
DTEND;TZID=Europe/London:20151119T213000
DTSTAMP:20260423T113119
CREATED:20151113T152618Z
LAST-MODIFIED:20151113T152618Z
UID:1540-1447961400-1447968600@rlhf.info
SUMMARY:Lochwinnoch Historical Society
DESCRIPTION:Clothing Rationing During World War 2 \nValerie Reilly
URL:https://rlhf.info/event/lochwinnoch-historical-society/
LOCATION:Guild Room\, Lochwinnoch Parish Church\, Church St\, Lochwinnoch\, PA12 4HE\, United Kingdom
CATEGORIES:Lochwinnoch Historical Society
END:VEVENT
BEGIN:VEVENT
DTSTART;TZID=Europe/London:20150416T193000
DTEND;TZID=Europe/London:20150416T193000
DTSTAMP:20260423T113119
CREATED:20141114T120104Z
LAST-MODIFIED:20141114T120104Z
UID:1173-1429212600-1429212600@rlhf.info
SUMMARY:Lochwinnoch Historical Society Lecture
DESCRIPTION:Clyde Potteries \nVal Boa
URL:https://rlhf.info/event/lochwinnoch-historical-society-lecture-5/
LOCATION:Guild Room\, Lochwinnoch Parish Church\, Church St\, Lochwinnoch\, PA12 4HE\, United Kingdom
CATEGORIES:Lochwinnoch Historical Society
END:VEVENT
BEGIN:VEVENT
DTSTART;TZID=Europe/London:20150219T073000
DTEND;TZID=Europe/London:20150219T170000
DTSTAMP:20260423T113119
CREATED:20141114T115828Z
LAST-MODIFIED:20141114T115828Z
UID:1171-1424331000-1424365200@rlhf.info
SUMMARY:Lochwinnoch Historical Society Lecture
DESCRIPTION:David Stowe:  A Sort of Amateur Teacher \nGlenda White
URL:https://rlhf.info/event/lochwinnoch-historical-society-lecture-3/
LOCATION:Guild Room\, Lochwinnoch Parish Church\, Church St\, Lochwinnoch\, PA12 4HE\, United Kingdom
CATEGORIES:Lochwinnoch Historical Society
END:VEVENT
BEGIN:VEVENT
DTSTART;TZID=Europe/London:20150115T193000
DTEND;TZID=Europe/London:20150115T210000
DTSTAMP:20260423T113119
CREATED:20141114T115719Z
LAST-MODIFIED:20141114T115719Z
UID:1170-1421350200-1421355600@rlhf.info
SUMMARY:Lochwinnoch Historical Society Lecture
DESCRIPTION:Sir David Wilkie: From Cults to Constantinople \nAilsa Turner
URL:https://rlhf.info/event/lochwinnoch-historical-society-lecture-2/
LOCATION:Guild Room\, Lochwinnoch Parish Church\, Church St\, Lochwinnoch\, PA12 4HE\, United Kingdom
CATEGORIES:Lochwinnoch Historical Society
END:VEVENT
BEGIN:VEVENT
DTSTART;TZID=Europe/London:20141120T193000
DTEND;TZID=Europe/London:20141120T210000
DTSTAMP:20260423T113119
CREATED:20141114T115540Z
LAST-MODIFIED:20141114T115540Z
UID:1168-1416511800-1416517200@rlhf.info
SUMMARY:Lochwinnoch Historical Society Lecture
DESCRIPTION:HMS Dasher – Aircraft Carrier Disaster\, Clyde Estuary 1943 \nJohn Steele
URL:https://rlhf.info/event/lochwinnoch-historical-society-lecture/
LOCATION:Guild Room\, Lochwinnoch Parish Church\, Church St\, Lochwinnoch\, PA12 4HE\, United Kingdom
CATEGORIES:Lochwinnoch Historical Society
END:VEVENT
END:VCALENDAR